BEGIN:VCALENDAR
VERSION:2.0
PRODID:-//P.A.M. - PARTNER AM MARKT - ECPv6.15.17//NONSGML v1.0//EN
CALSCALE:GREGORIAN
METHOD:PUBLISH
X-ORIGINAL-URL:https://www.partner-am-markt.de
X-WR-CALDESC:Veranstaltungen für P.A.M. - PARTNER AM MARKT
REFRESH-INTERVAL;VALUE=DURATION:PT1H
X-Robots-Tag:noindex
X-PUBLISHED-TTL:PT1H
BEGIN:VTIMEZONE
TZID:Europe/Berlin
BEGIN:DAYLIGHT
TZOFFSETFROM:+0100
TZOFFSETTO:+0200
TZNAME:CEST
DTSTART:20190331T010000
END:DAYLIGHT
BEGIN:STANDARD
TZOFFSETFROM:+0200
TZOFFSETTO:+0100
TZNAME:CET
DTSTART:20191027T010000
END:STANDARD
BEGIN:DAYLIGHT
TZOFFSETFROM:+0100
TZOFFSETTO:+0200
TZNAME:CEST
DTSTART:20200329T010000
END:DAYLIGHT
BEGIN:STANDARD
TZOFFSETFROM:+0200
TZOFFSETTO:+0100
TZNAME:CET
DTSTART:20201025T010000
END:STANDARD
BEGIN:DAYLIGHT
TZOFFSETFROM:+0100
TZOFFSETTO:+0200
TZNAME:CEST
DTSTART:20210328T010000
END:DAYLIGHT
BEGIN:STANDARD
TZOFFSETFROM:+0200
TZOFFSETTO:+0100
TZNAME:CET
DTSTART:20211031T010000
END:STANDARD
END:VTIMEZONE
BEGIN:VEVENT
DTSTART;TZID=Europe/Berlin:20200202T090000
DTEND;TZID=Europe/Berlin:20200202T180000
DTSTAMP:20260420T050046
CREATED:20180712T214329Z
LAST-MODIFIED:20190726T145858Z
UID:1134-1580634000-1580666400@www.partner-am-markt.de
SUMMARY:Eckernförder Fischmarkt
DESCRIPTION:Jeden 1. Sonntag im Monat ist in Eckernförde “Fischmarktsonntag”.
URL:https://www.partner-am-markt.de/termin/eckernfoerder-fischmarkt-februar/
LOCATION:Eckernförde Hafen – Schiffbrücke\, Schiffbrücke\, Eckenförde\, Schleswig-Holstein\, 24340\, Germany
CATEGORIES:Fischmarkt
ATTACH;FMTTYPE=image/jpeg:https://www.partner-am-markt.de/wordpress/wp-content/uploads/2018/07/Eckernförde-Slider3.jpg
ORGANIZER;CN="P.A.M. - PARTNER AM MARKT":MAILTO:post@partner-am-markt.de
END:VEVENT
END:VCALENDAR